Workbook

Sheet User Manual
A1: Road Freight Estimate Generator Tool - User Manual
A2: 1. Diesel Cost Input:
A3: Enter the current diesel cost for the respective region or location in INR per liter (e.g., INR 87.62).
A4: 2. Vehicle Type Selection:
A5: Based on your operational needs, such as equipment size and cargo weight, choose the appropriate vehicle type (e.g., 20 ft Triple Axel - 28 ton).
A6: 3. Vehicle Age:
A7: Vehicle age is an important factor. Market practice suggests using 2-3-year-old vehicles for long-haul operations, and 5-7-year-old vehicles for short-haul operations. Input the vehicle’s age accordingly.
A8: 4. Trip Distance (Round/Oneway):
A9: Update the round-trip or one-way distance in kilometers. This should account for both empty or laden container pick-up and return to the loading/unloading location, back to port or empty yard.
A10: 5. Turnaround Time (TAT) in Days:
A11: Turnaround Time (TAT) is a crucial factor in rate variation. When updating TAT, consider multiple elements, such as:
A12: Empty container pick-up time
... A23: In line with market practice, transporters typically add a margin of 2-3% to the total freight cost. Input the appropriate margin (e.g., 2%).

Sheet Get The Estimated Freight
B2: #VALUE! | C2: Road Freight Estimate Generator Tool
B3: Diesel Cost Per Ltr. | C3: 94 | G3: Per Trip Rates | H3: =(H22*C7)+H29 -> 9000 | I3: #VALUE! | AL3: Credit Period | AM3: Inrest on capital
B4: Vehicle Type | C4: 40 ft Triple Axel - 28 ton | D4: =VLOOKUP(C5,$B$37:$D$46,3,FALSE) -> 1982464 | G4: Per Km Charge | H4: =ROUNDDOWN((H3/C6)/0.5,0)*0.5 -> 150 | I4: #VALUE! | AH4: Oneway Trip | AJ4: 1 | AL4: --- Select--- | AM4: 0 | AN4: =$H$3 -> 9000 | AO4: =AN4*AM4 -> 0
B5: *Age of the vehcle | C5: 5 | D5: Intrest on Capital amount | E5: =VLOOKUP(C9,$AL$3:$AM$11,2,FALSE) -> 0.025 | AH5: Round Trip | AJ5: 2 | AL5: Immediate Payment | AM5: 0 | AN5: =$H$3 -> 9000 | AO5: =AN5*AM5 -> 0
B6: *Round | Oneway Trip KM | C6: 60 | G6: Per Trip base Rates | H6: =H3-H7-H8-H9 -> 6325 | AJ6: 3 | AL6: 7 Days | AM6: 0.005 | AN6: =$H$3 -> 9000 | AO6: =AN6*AM6 -> 45
B7: *Round | One-way Trip Estimated TAT in Days | C7: 1.5 | G7: Additional Fixed cost due to TAT | H7: =VLOOKUP(C7,$AJ$15:$AM$73,4,FALSE) -> 2000 | AJ7: 4 | AL7: 15 Days | AM7: 0.01 | AN7: =$H$3 -> 9000 | AO7: =AN7*AM7 -> 90
B8: Trip Type | C8: Round Trip | G8: Additional Cost added due to Payment Terms | H8: =VLOOKUP(C9,$AL$4:$AO$11,4,FALSE) -> 225 | AJ8: 5 | AL8: 30 Days | AM8: 0.02 | AN8: =$H$3 -> 9000 | AO8: =AN8*AM8 -> 180
B9: Credit Period | C9: 45 Days | G9: Profit Margin | H9: =H3*(C10) -> 450 | AJ9: 6 | AL9: 45 Days | AM9: 0.025 | AN9: =$H$3 -> 9000 | AO9: =AN9*AM9 -> 225
B10: Partner Profit Margin | C10: 0.05 | G10: No of Trip Per Month | H10: =30/C7 -> 20 | AJ10: 7 | AL10: 60 Days | AM10: 0.03 | AN10: =$H$3 -> 9000 | AO10: =AN10*AM10 -> 270
AJ11: 8 | AL11: 90 Days | AM11: 0.04 | AN11: =$H$3 -> 9000 | AO11: =AN11*AM11 -> 360
B12: Fixed Cost | C12: Month | D12: Intrest on Capital | E12: Partner profit on Investment | F12: Net amount | G12: Per Km Charge | H12: Fixed Cost / Day | AJ12: 9
B13: EMI | C13: =I33 -> 46092.288 | D13: 0 | E13: 0 | F13: =C13 -> 46092.288 | G13: =F13/$C$6 -> 768.2048 | H13: =F13/30 -> 1536.4096 | I13: =G13/30 -> 25.606827 | AJ13: 10
B14: Intrest on Down payment | C14: =K33 -> 3964.928 | D14: 0 | E14: 0 | F14: =C14 -> 3964.928 | G14: =F14/$C$6 -> 66.082133 | H14: =F14/30 -> 132.16427 | I14: =G14/30 -> 2.2027378
B15: Driver + Helper Salary | C15: 50000 | D15: =C15*$E$5 -> 1250 | E15: =C15*$C$10 -> 2500 | F15: =C15+D15+E15 -> 53750 | G15: =F15/$C$6 -> 895.83333 | H15: =F15/30 -> 1791.6667 | I15: =G15/30 -> 29.861111 | AJ15: 1 | AK15: =$H$22 -> 4000 | AL15: =AK15*AJ15 -> 4000 | AM15: 0
B16: Road Tax | C16: 1500 | D16: =C16*$E$5 -> 37.5 | E16: =C16*$C$10 -> 75 | F16: =C16+D16+E16 -> 1612.5 | G16: =F16/$C$6 -> 26.875 | H16: =F16/30 -> 53.75 | I16: =G16/30 -> 0.89583333 | AJ16: 1.5 | AK16: =$H$22 -> 4000 | AL16: =AK16*AJ16 -> 6000 | AM16: =AL16-AK16 -> 2000
B17: All india Permit | C17: =28000/12 -> 2333.3333 | D17: =C17*$E$5 -> 58.333333 | E17: =C17*$C$10 -> 116.66667 | F17: =C17+D17+E17 -> 2508.3333 | G17: =F17/$C$6 -> 41.805556 | H17: =F17/30 -> 83.611111 | I17: =G17/30 -> 1.3935185 | AJ17: =AJ16+0.5 -> 2 | AK17: =$H$22 -> 4000 | AL17: =AK17*AJ17 -> 8000 | AM17: =AL17-AK17 -> 4000
B18: Insurance | C18: =(VLOOKUP(C5,$B$37:$F$46,5,FALSE))/12 -> 2065.0667 | D18: =C18*$E$5 -> 51.626667 | E18: =C18*$C$10 -> 103.25333 | F18: =C18+D18+E18 -> 2219.9467 | G18: =F18/$C$6 -> 36.999111 | H18: =F18/30 -> 73.998222 | I18: =G18/30 -> 1.2333037 | K18: GST | AJ18: =AJ17+0.5 -> 2.5 | AK18: =$H$22 -> 4000 | AL18: =AK18*AJ18 -> 10000 | AM18: =AL18-AK18 -> 6000
B19: Fitness cost | C19: =VLOOKUP(C5,$B$36:$I$46,8,FALSE) -> 8000 | D19: =C19*$E$5 -> 200 | E19: =C19*$C$10 -> 400 | F19: =C19+D19+E19 -> 8600 | G19: =F19/$C$6 -> 143.33333 | H19: =F19/30 -> 286.66667 | I19: =G19/30 -> 4.7777778 | AJ19: =AJ18+0.5 -> 3 | AK19: =$H$22 -> 4000 | AL19: =AK19*AJ19 -> 12000 | AM19: =AL19-AK19 -> 8000
B20: GPS | C20: =8000/12 -> 666.66667 | D20: =C20*$E$5 -> 16.666667 | E20: =C20*$C$10 -> 33.333333 | F20: =C20+D20+E20 -> 716.66667 | G20: =F20/$C$6 -> 11.944444 | H20: =F20/30 -> 23.888889 | I20: =G20/30 -> 0.39814815 | K20: GST | AJ20: =AJ19+0.5 -> 3.5 | AK20: =$H$22 -> 4000 | AL20: =AK20*AJ20 -> 14000 | AM20: =AL20-AK20 -> 10000
B21: Admin | C21: 2000 | D21: =C21*$E$5 -> 50 | E21: =C21*$C$10 -> 100 | F21: =C21+D21+E21 -> 2150 | G21: =F21/$C$6 -> 35.833333 | H21: =F21/30 -> 71.666667 | I21: =G21/30 -> 1.1944444 | AJ21: =AJ20+0.5 -> 4 | AK21: =$H$22 -> 4000 | AL21: =AK21*AJ21 -> 16000 | AM21: =AL21-AK21 -> 12000
C22: =SUM(C13:C21)/12 -> 9718.5236 | D22: =SUM(D13:D21) -> 1664.1267 | E22: =SUM(E13:E21) -> 3328.2533 | F22: =SUM(F13:F21) -> 121614.66 | G22: =SUM(G13:G21) -> 2026.911 | H22: =ROUNDDOWN((F22/30)/100,0)*100 -> 4000 | I22: =SUM(I13:I21) -> 67.563701 | AJ22: =AJ21+0.5 -> 4.5 | AK22: =$H$22 -> 4000 | AL22: =AK22*AJ22 -> 18000 | AM22: =AL22-AK22 -> 14000
AJ23: =AJ22+0.5 -> 5 | AK23: =$H$22 -> 4000 | AL23: =AK23*AJ23 -> 20000 | AM23: =AL23-AK23 -> 16000
B24: Variable Cost | C24: Per Km Charge | G24: Per Km Charge | H24: Total Varibale cost | AJ24: =AJ23+0.5 -> 5.5 | AK24: =$H$22 -> 4000 | AL24: =AK24*AJ24 -> 22000 | AM24: =AL24-AK24 -> 18000
B25: Diesel | C25: =VLOOKUP(C8,$B$54:$C$55,2,FALSE) -> 33.571429 | D25: =C25*$E$5 -> 0.83928571 | E25: =C25*$C$10 -> 1.6785714 | F25: =C25+D25+E25 -> 36.089286 | G25: =F25 -> 36.089286 | H25: =F25*$C$6 -> 2165.3571 | I25: =G25 -> 36.089286 | AJ25: =AJ24+0.5 -> 6 | AK25: =$H$22 -> 4000 | AL25: =AK25*AJ25 -> 24000 | AM25: =AL25-AK25 -> 20000
B26: Toll | C26: =5 -> 5 | D26: =C26*$E$5 -> 0.125 | E26: =C26*$C$10 -> 0.25 | F26: =C26+D26+E26 -> 5.375 | G26: =F26 -> 5.375 | H26: =F26*$C$6 -> 322.5 | I26: =G26 -> 5.375 | AJ26: =AJ25+0.5 -> 6.5 | AK26: =$H$22 -> 4000 | AL26: =AK26*AJ26 -> 26000 | AM26: =AL26-AK26 -> 22000
B27: R & M | C27: =VLOOKUP(C5,$B$37:$H$46,7,FALSE) -> 1.35 | D27: =C27*$E$5 -> 0.03375 | E27: =C27*$C$10 -> 0.0675 | F27: =C27+D27+E27 -> 1.45125 | G27: =F27 -> 1.45125 | H27: =F27*$C$6 -> 87.075 | I27: =G27 -> 1.45125 | K27: GST | AJ27: =AJ26+0.5 -> 7 | AK27: =$H$22 -> 4000 | AL27: =AK27*AJ27 -> 28000 | AM27: =AL27-AK27 -> 24000
B28: Tyre | C28: 8 | D28: =C28*$E$5 -> 0.2 | E28: =C28*$C$10 -> 0.4 | F28: =C28+D28+E28 -> 8.6 | G28: =F28 -> 8.6 | H28: =F28*$C$6 -> 516 | I28: =G28 -> 8.6 | K28: GST | AJ28: =AJ27+0.5 -> 7.5 | AK28: =$H$22 -> 4000 | AL28: =AK28*AJ28 -> 30000 | AM28: =AL28-AK28 -> 26000
C29: =C28+C27+C26+C53 -> 47.921429 | D29: =C29*$E$5 -> 1.1980357 | E29: =C29*$C$10 -> 2.3960714 | F29: =F28+F27+F26+F25 -> 51.515536 | G29: =F29 -> 51.515536 | H29: =ROUNDDOWN((F29*C6)/100,0)*100 -> 3000 | I29: =SUM(I20:I28) -> 120.67183 | AJ29: =AJ28+0.5 -> 8 | AK29: =$H$22 -> 4000 | AL29: =AK29*AJ29 -> 32000 | AM29: =AL29-AK29 -> 28000
I30: =I29+I22 -> 188.23553 | AJ30: =AJ29+0.5 -> 8.5 | AK30: =$H$22 -> 4000 | AL30: =AK30*AJ30 -> 34000 | AM30: =AL30-AK30 -> 30000
AJ31: =AJ30+0.5 -> 9 | AK31: =$H$22 -> 4000 | AL31: =AK31*AJ31 -> 36000 | AM31: =AL31-AK31 -> 32000
B32: Cost of the vehicles | C32: Trailer | D32: Total Coat | E32: Down payment ( which covers initial Exp Reg + AIP Permit ) | F32: Loan Amt | G32: EMI Inter for 60 | H32: Total Amt | I32: EMI | K32: Interst on Down payment | AJ32: =AJ31+0.5 -> 9.5 | AK32: =$H$22 -> 4000 | AL32: =AK32*AJ32 -> 38000 | AM32: =AL32-AK32 -> 34000
B33: =VLOOKUP(C4,$B$49:$F$52,3,FALSE) -> 3460000 | C33: =VLOOKUP(C4,$B$48:$E$52,4,FALSE) -> 1380000 | D33: =D4 -> 1982464 | E33: =D33-F33 -> 198246.4 | F33: =D33*90% -> 1784217.6 | G33: =(F33*11%*5) -> 981319.68 | H33: =F33+G33 -> 2765537.3 | I33: =H33/60 -> 46092.288 | J33: =(E33*2%*60) -> 237895.68 | K33: =J33/60 -> 3964.928 | L33: =I33+K33 -> 50057.216 | AJ33: =AJ32+0.5 -> 10 | AK33: =$H$22 -> 4000 | AL33: =AK33*AJ33 -> 40000 | AM33: =AL33-AK33 -> 36000
AJ34: =AJ33+0.5 -> 10.5 | AK34: =$H$22 -> 4000 | AL34: =AK34*AJ34 -> 42000 | AM34: =AL34-AK34 -> 38000
AJ35: =AJ34+0.5 -> 11 | AK35: =$H$22 -> 4000 | AL35: =AK35*AJ35 -> 44000 | AM35: =AL35-AK35 -> 40000
B36: Age | C36: Depri | D36: Cost of the Vehicle After Depr | E36: Dep % | F36: Insurance | G36: KMPL | H36: R & M | I36: FC Cost | J36: Round Trip KM | K36: Oneway Trip | L36: Round Trip | AJ36: =AJ35+0.5 -> 11.5 | AK36: =$H$22 -> 4000 | AL36: =AK36*AJ36 -> 46000 | AM36: =AL36-AK36 -> 42000
B37: 1 | C37: =D37*E37 -> 968000 | D37: =B33+C33 -> 4840000 | E37: 0.2 | F37: =D37*1.25% -> 60500 | G37: 3 | H37: =H38*(1-5%) -> 1.0995834 | I37: 0 | J37: =G37-0.1 -> 2.9 | K37: =G37 -> 3 | L37: =(G37+J37)/2 -> 2.95 | N37: =(K37-J37)/K37 -> 0.033333333 | AJ37: =AJ36+0.5 -> 12 | AK37: =$H$22 -> 4000 | AL37: =AK37*AJ37 -> 48000 | AM37: =AL37-AK37 -> 44000
B38: 2 | C38: =($D$37-C37)*$E$37 -> 774400 | D38: =D37-C37 -> 3872000 | E38: 0.2 | F38: =D38*1.25% -> 48400 | G38: 2.9 | H38: =H39*(1-5%) -> 1.1574562 | I38: 5000 | J38: =G38-0.1 -> 2.8 | K38: =G38 -> 2.9 | L38: =(G38+J38)/2 -> 2.85 | N38: =K37*(1-N37) -> 2.9 | AJ38: =AJ37+0.5 -> 12.5 | AK38: =$H$22 -> 4000 | AL38: =AK38*AJ38 -> 50000 | AM38: =AL38-AK38 -> 46000
B39: 3 | C39: =($D$37-C38-C37)*$E$37 -> 619520 | D39: =D38-C38 -> 3097600 | E39: 0.2 | F39: =D39*1.25% -> 38720 | G39: 2.8 | H39: =H40*(1-5%) -> 1.218375 | I39: =I38+1000 -> 6000 | J39: =G39-0.1 -> 2.7 | K39: =G39 -> 2.8 | L39: =(G39+J39)/2 -> 2.75 | AJ39: =AJ38+0.5 -> 13 | AK39: =$H$22 -> 4000 | AL39: =AK39*AJ39 -> 52000 | AM39: =AL39-AK39 -> 48000
B40: 4 | C40: =($D$37-C39-C38-C37)*$E$37 -> 495616 | D40: =D39-C39 -> 2478080 | E40: 0.2 | F40: =D40*1.25% -> 30976 | G40: 2.8 | H40: =H41*(1-5%) -> 1.2825 | I40: =I39+1000 -> 7000 | J40: =G40-0.1 -> 2.7 | K40: =G40 -> 2.8 | L40: =(G40+J40)/2 -> 2.75 | AJ40: =AJ39+0.5 -> 13.5 | AK40: =$H$22 -> 4000 | AL40: =AK40*AJ40 -> 54000 | AM40: =AL40-AK40 -> 50000
B41: 5 | C41: =($D$37-C40-C39-C38-C37)*$E$37 -> 396492.8 | D41: =D40-C40 -> 1982464 | E41: 0.2 | F41: =D41*1.25% -> 24780.8 | G41: 2.8 | H41: 1.35 | I41: =I40+1000 -> 8000 | J41: =G41-0.1 -> 2.7 | K41: =G41 -> 2.8 | L41: =(G41+J41)/2 -> 2.75 | AJ41: =AJ40+0.5 -> 14 | AK41: =$H$22 -> 4000 | AL41: =AK41*AJ41 -> 56000 | AM41: =AL41-AK41 -> 52000
...

Sheet TAT Workings
B2: TAT | C2: Freight Amt. | D2: Hours / Days | E2: Activity | F2: Time Consmubtion in Hours
B3: Estimated in Hours | C3: =F28+F27 -> 6285.7143 | D3: =F25 -> 0.82142857 | E3: Estimated TAT based on the Distance ( Ave..Travel Time 35 KM per hour ) | F3: ='Get The Estimated Freight'!C6/35 -> 1.7142857
B4: Estimated in Days | C4: ='Get The Estimated Freight'!H3 -> 9000 | D4: ='Get The Estimated Freight'!C7 -> 1.5 | E4: Other activity ( Reciving Doc.. Empty Cont. Form -13) | F4: 6
E5: Loading | unloading time (incl..waiting time ) | F5: 4
E6: Average Idle Time for Next Load | F6: 8
E7: Total Hours | F7: =SUM(F3:F6) -> 19.714286
E8: Total Hours | F8: =F7/24 -> 0.82142857
B10: Activity | C10: Time Consmubtion | D10: Duration | E10: % | F10: Duration
B11: Booking received time | C11: 45589.542 | D11: =VALUE(C11-C11) -> 0 | E11: =D11/$D$25 -> 0 | F11: =$F$8*E11 -> 0
B12: Booking copy received time ( CRO - Empty | EIR - Laden | DO - Port Validity Empty Return Validity |Gate Pass | OOC | BL ) | C12: 45589.708 | D12: =VALUE(C12-C11) -> 0.16666667 | E12: =D12/$D$25 -> 0.080808081 | F12: =$F$8*E12 -> 0.066378066
B13: Truck Placement time | C13: 45589.958 | D13: =VALUE(C13-C12) -> 0.25 | E13: =D13/$D$25 -> 0.12121212 | F13: =$F$8*E13 -> 0.0995671
B14: Empty Yard | Port | CFS in time | C14: 45590.042 | D14: =VALUE(C14-C13) -> 0.083333333 | E14: =D14/$D$25 -> 0.04040404 | F14: =$F$8*E14 -> 0.033189033
B15: Laden Pick up | Empty continer received time | C15: 45590.083 | D15: =VALUE(C15-C14) -> 0.041666667 | E15: =D15/$D$25 -> 0.02020202 | F15: =$F$8*E15 -> 0.016594517
B16: Leaving time from Empty Yard | Port | C16: 45590.09 | D16: =VALUE(C16-C15) -> 0.0069444444 | E16: =D16/$D$25 -> 0.0033670034 | F16: =$F$8*E16 -> 0.0027657528
B17: Customer factory report time | C17: 45590.458 | D17: =VALUE(C17-C16) -> 0.36805556 | E17: =D17/$D$25 -> 0.17845118 | F17: =$F$8*E17 -> 0.1465849
B18: Loading | unloading start time | C18: 45590.479 | D18: =VALUE(C18-C17) -> 0.020833333 | E18: =D18/$D$25 -> 0.01010101 | F18: =$F$8*E18 -> 0.0082972583
B19: Loading | unloading end time | C19: 45590.562 | D19: =VALUE(C19-C18) -> 0.083333333 | E19: =D19/$D$25 -> 0.04040404 | F19: =$F$8*E19 -> 0.033189033
B20: Customer factory leaving time | C20: 45590.583 | D20: =VALUE(C20-C19) -> 0.020833333 | E20: =D20/$D$25 -> 0.01010101 | F20: =$F$8*E20 -> 0.0082972583
B21: Form -13 | DO with Validity | C21: 45590.958 | D21: =VALUE(C21-C20) -> 0.375 | E21: =D21/$D$25 -> 0.18181818 | F21: =$F$8*E21 -> 0.14935065
B22: Empty Yard | Port gate in time | C22: 45590.979 | D22: =VALUE(C22-C21) -> 0.020833333 | E22: =D22/$D$25 -> 0.01010101 | F22: =$F$8*E22 -> 0.0082972583
B23: Port | Empty Yard Continer off loading time | C23: 45591.062 | D23: =VALUE(C23-C22) -> 0.083333333 | E23: =D23/$D$25 -> 0.04040404 | F23: =$F$8*E23 -> 0.033189033
B24: Idle time to get next Shipment | C24: 45591.604 | D24: =VALUE(C24-C23) -> 0.54166667 | E24: =D24/$D$25 -> 0.26262626 | F24: =$F$8*E24 -> 0.21572872
C25: =C24-C11 -> 2.0625 | D25: =SUM(D11:D24) -> 2.0625 | E25: =SUM(E11:E24) -> 1 | F25: =SUM(F11:F24) -> 0.82142857
C26: =C24-C13 -> 1.6458333 | F26: ='Get The Estimated Freight'!H22/24 -> 166.66667
F27: =F25*24*F26 -> 3285.7143
F28: ='Get The Estimated Freight'!H29 -> 3000
B31: Add reefer vehicles input ( AC cost | genset fuel cons..| )
B32: We need to consider one more senrio flat or hill station , if its hill station TAT need to be increaes simillarly reduce the KMPL
